BEGIN:VCALENDAR
VERSION:2.0
PRODID:-//ChamberMaster//Event Calendar 2.0//EN
METHOD:PUBLISH
X-PUBLISHED-TTL:P1H
REFRESH-INTERVAL:P1H
CALSCALE:GREGORIAN
BEGIN:VTIMEZONE
TZID:America/Vancouver
BEGIN:DAYLIGHT
RRULE:FREQ=YEARLY;BYMONTH=3;BYDAY=2SU
DTSTART:20070101T000000
TZOFFSETFROM:-0800
TZOFFSETTO:-0700
TZNAME:Pacific Daylight Time
END:DAYLIGHT
BEGIN:STANDARD
RRULE:FREQ=YEARLY;BYMONTH=11;BYDAY=1SU
DTSTART:20070101T000000
TZOFFSETFROM:-0700
TZOFFSETTO:-0800
TZNAME:Pacific Standard Time
END:STANDARD
END:VTIMEZONE
BEGIN:VEVENT
DTSTART;TZID=America/Vancouver:20260509T100000
DTEND;TZID=America/Vancouver:20260509T150000
X-MICROSOFT-CDO-ALLDAYEVENT:FALSE
SUMMARY:West Coast Seeds Seedling Sale
DESCRIPTION:Bring your friends and family for a fun-filled event at our retail store.Date: Saturday\, May 9th\, 2026Time: 10am 3pmLocation: 5300 34B Ave\, Delta\, BCJoin us for our annual Fundraiser Seedling Sale!We've grown thousands of seedlings in preparation for this event and can't wait for you to join us. Enjoy activities for kids\, live music\, food trucks\, local artisans and vendors and a wide assortment of organic seedlings.Our retail shop will be open so you can stock up on any gardening supplies you may need or browse our curated home goods.  Please wear suitable footwear\, as our location has unstable ground.
X-ALT-DESC;FMTTYPE=text/html:<!DOCTYPE html><html><head><title></title></head><body aria-disabled="false"><p><br></p><p><meta charset="utf-8"></p><p>Bring your friends and family for a fun-filled event at our retail store.</p><p>Date: Saturday\, May 9th\, 2026</p><p>Time: 10am&ndash\;3pm</p><p>Location: 5300 34B Ave\, Delta\, BC</p><p>Join us for our annual Fundraiser Seedling Sale!</p><p>We&#39\;ve grown thousands of seedlings in preparation for this event and can&#39\;t wait for you to join us.&nbsp\;</p><p>Enjoy activities for kids\, live music\, food trucks\, local artisans and vendors and a wide assortment of organic seedlings.</p><p>Our retail shop will be open so you can stock up on any gardening supplies you may need or browse our curated home goods. &nbsp\;</p><p>Please wear suitable footwear\, as our location has unstable ground.</p></body></html>
LOCATION:
UID:e.2111.1438184
SEQUENCE:3
DTSTAMP:20260424T222707Z
URL:https://business.deltachamber.ca/event/Details/west-coast-seeds-seedling-sale-1702194?sourceTypeId=Hub
END:VEVENT
END:VCALENDAR
