BEGIN:VCALENDAR
VERSION:2.0
PRODID:-//ChamberMaster//Event Calendar 2.0//EN
METHOD:PUBLISH
X-PUBLISHED-TTL:P1H
REFRESH-INTERVAL:P1H
CALSCALE:GREGORIAN
BEGIN:VTIMEZONE
TZID:America/Vancouver
BEGIN:DAYLIGHT
RRULE:FREQ=YEARLY;BYMONTH=3;BYDAY=2SU
DTSTART:20070101T000000
TZOFFSETFROM:-0800
TZOFFSETTO:-0700
TZNAME:Pacific Daylight Time
END:DAYLIGHT
BEGIN:STANDARD
RRULE:FREQ=YEARLY;BYMONTH=11;BYDAY=1SU
DTSTART:20070101T000000
TZOFFSETFROM:-0700
TZOFFSETTO:-0800
TZNAME:Pacific Standard Time
END:STANDARD
END:VTIMEZONE
BEGIN:VEVENT
DTSTART;TZID=America/Vancouver:20260506T110000
DTEND;TZID=America/Vancouver:20260506T133000
X-MICROSOFT-CDO-ALLDAYEVENT:FALSE
SUMMARY:Lunch & Learn: Energy Storage Incentives for BC Businesses
DESCRIPTION:⚡ Unlock the Power of Energy Storage for Your BusinessJoin the Delta Chamber\, alongside BC Hydro\, MTI Systems\, Specialized Power Solutions\, and Smith + Andersen\, for an exclusive luncheon on the future of energy and how your business can benefit.As energy demands grow and capacity constraints loom across the province by 2032\, now is the time to get ahead. This informative session will introduce you to BC Hydro's Energy Storage Incentive (ESI) program\, offering up to 80 90% funding support for eligible projects in the Delta region.💡 Why attend?Discover how energy storage can:Reduce your operating costsStrengthen your energy resilienceProtect your business from power outagesHelp you plan for future energy challengesThis session is tailored for commercial and industrial businesses with high or fluctuating energy use\, including manufacturers\, processors\, logistics operators\, and large facilities\, looking to take control of their energy future.⚠️ Who should attend?This session is best suited for medium-sized power consumers\, specifically businesses served by a transformer with a minimum capacity of 750 KVA.🚀 Don't miss this opportunity to learn\, ask questions\, and explore whether energy storage is the right solution for your business.Event Details:📅 Wednesday\, May 6\, 2026🕚 11:30 AM - 1:30 PM (Registration opens at 11:00 AM)📍 Cascades Casino Delta🍽️ Lunch Provided\nSecure your spot and take the first step toward a more resilient\, cost-efficient future.\nQuestions?Email scarlett.huntington@deltachamber.ca with any event inquiries.
X-ALT-DESC;FMTTYPE=text/html:<!DOCTYPE html><html><head><title></title></head><body aria-disabled="false"><p><br></p><p>⚡<strong fr-original-style="" style="font-weight: 700\;">&nbsp\;Unlock the Power of Energy Storage for Your Business</strong></p><p>Join the Delta Chamber\, alongside <strong fr-original-style="" style="font-weight: 700\;">BC Hydro</strong>\, <strong fr-original-style="" style="font-weight: 700\;">MTI Systems</strong>\, <strong fr-original-style="" style="font-weight: 700\;">Specialized Power Solutions</strong>\, and <strong fr-original-style="" style="font-weight: 700\;">Smith + Andersen</strong>\, for an exclusive luncheon on the future of energy and how your business can benefit.</p><p>As energy demands grow and capacity constraints loom across the province by 2032\, now is the time to get ahead. This informative session will introduce you to BC Hydro&rsquo\;s Energy Storage Incentive (ESI) program\, offering up to 80&ndash\;90% funding support for eligible projects in the Delta region.</p><p>💡 <strong fr-original-style="" style="font-weight: 700\;">Why attend?</strong></p><p>Discover how energy storage can:</p><ul fr-original-style="" style="list-style-position: inside\;"><li>Reduce your operating costs</li><li>Strengthen your energy resilience</li><li>Protect your business from power outages</li><li>Help you plan for future energy challenges</li></ul><p>This session is tailored for commercial and industrial businesses with high or fluctuating energy use\, including manufacturers\, processors\, logistics operators\, and large facilities\, looking to take control of their energy future.</p><p><strong fr-original-style="" style="font-weight: 700\;">⚠️ Who should attend?</strong></p><p>This session is best suited for medium-sized power consumers\, specifically businesses served by a transformer with a minimum capacity of 750 KVA.</p><p>🚀 Don&rsquo\;t miss this opportunity to learn\, ask questions\, and explore whether energy storage is the right solution for your business.</p><p><strong fr-original-style="" style="font-weight: 700\;">Event Details:</strong></p><p>📅 Wednesday\, May 6\, 2026</p><p>🕚 11:30 AM - 1:30 PM (Registration opens at 11:00 AM)</p><p>📍 Cascades Casino Delta</p><p>🍽️ Lunch Provided</p><p><br></p><p><strong fr-original-style="" style="font-weight: 700\;">Secure your spot and take the first step toward a more resilient\, cost-efficient future.</strong></p><p><br></p><p><strong fr-original-style="" style="font-weight: 700\;">Questions?</strong></p><p><em>Email <a fr-original-style="" href="mailto:scarlett.huntington@deltachamber.ca" style="user-select: auto\;">scarlett.huntington@deltachamber.ca</a> with any event inquiries.&nbsp\;</em></p></body></html>
LOCATION:6005 BC-17A Delta BC V4K 0B2
UID:e.2111.1423170
SEQUENCE:3
DTSTAMP:20260424T081536Z
URL:https://business.deltachamber.ca/event/Details/lunch-learn-energy-storage-incentives-for-bc-businesses-1682709?sourceTypeId=Hub
END:VEVENT
END:VCALENDAR
