BEGIN:VCALENDAR
VERSION:2.0
PRODID:-//ChamberMaster//Event Calendar 2.0//EN
METHOD:PUBLISH
X-PUBLISHED-TTL:P1H
REFRESH-INTERVAL:P1H
CALSCALE:GREGORIAN
BEGIN:VTIMEZONE
TZID:America/Vancouver
BEGIN:DAYLIGHT
RRULE:FREQ=YEARLY;BYMONTH=3;BYDAY=2SU
DTSTART:20070101T000000
TZOFFSETFROM:-0800
TZOFFSETTO:-0700
TZNAME:Pacific Daylight Time
END:DAYLIGHT
BEGIN:STANDARD
RRULE:FREQ=YEARLY;BYMONTH=11;BYDAY=1SU
DTSTART:20070101T000000
TZOFFSETFROM:-0700
TZOFFSETTO:-0800
TZNAME:Pacific Standard Time
END:STANDARD
END:VTIMEZONE
BEGIN:VEVENT
DTSTART;TZID=America/Vancouver:20260503T090000
DTEND;TZID=America/Vancouver:20260503T110000
X-MICROSOFT-CDO-ALLDAYEVENT:FALSE
SUMMARY:Heron Hospice Society of Delta's 3rd Annual Hike for Hospice
DESCRIPTION:On Sunday\, May 3\, 2026\, Heron Hospice Society of Delta invites the community to gather at Paterson Park for the 3rd Annual Hike for Hospice. This interactive\, family-friendly event aims to raise vital funds for no-cost grief counselling and compassionate end-of-life support for residents across Delta and Tsawwassen Lands. Event Highlights: The morning kicks off at 9:00 AM with live music and a pancake breakfast served by the Tsawwassen Boundary Bay Lions. Following welcome remarks and a group warm-up at 9:30 AM\, participants will walk the Paterson Park circuit at their own pace. The event is fully inclusive\, welcoming strollers\, children\, and well-behaved dogs on leashes.
X-ALT-DESC;FMTTYPE=text/html:<!DOCTYPE html><html><head><title></title></head><body aria-disabled="false"><p>On Sunday\, May 3\, 2026\, Heron Hospice Society of Delta invites the community to gather at Paterson Park for the 3rd Annual Hike for Hospice. This interactive\, family-friendly event aims to raise vital funds for no-cost grief counselling and compassionate end-of-life support for residents across Delta and Tsawwassen Lands.&nbsp\;</p><p>Event Highlights:&nbsp\;</p><p>The morning kicks off at 9:00 AM with live music and a pancake breakfast served by the Tsawwassen Boundary Bay Lions. Following welcome remarks and a group warm-up at 9:30 AM\, participants will walk the Paterson Park circuit at their own pace. The event is fully inclusive\, welcoming strollers\, children\, and well-behaved dogs on leashes. </p></body></html>
LOCATION:
UID:e.2111.1449028
SEQUENCE:3
DTSTAMP:20260424T222511Z
URL:https://business.deltachamber.ca/event/Details/heron-hospice-society-of-delta-s-3rd-annual-hike-for-hospice-1716332?sourceTypeId=Hub
END:VEVENT
END:VCALENDAR
