BEGIN:VCALENDAR
VERSION:2.0
PRODID:-//ChamberMaster//Event Calendar 2.0//EN
METHOD:PUBLISH
X-PUBLISHED-TTL:P1H
REFRESH-INTERVAL:P1H
CALSCALE:GREGORIAN
BEGIN:VTIMEZONE
TZID:America/Vancouver
BEGIN:DAYLIGHT
RRULE:FREQ=YEARLY;BYMONTH=3;BYDAY=2SU
DTSTART:20070101T000000
TZOFFSETFROM:-0800
TZOFFSETTO:-0700
TZNAME:Pacific Daylight Time
END:DAYLIGHT
BEGIN:STANDARD
RRULE:FREQ=YEARLY;BYMONTH=11;BYDAY=1SU
DTSTART:20070101T000000
TZOFFSETFROM:-0700
TZOFFSETTO:-0800
TZNAME:Pacific Standard Time
END:STANDARD
END:VTIMEZONE
BEGIN:VEVENT
DTSTART;TZID=America/Vancouver:20260513T083000
DTEND;TZID=America/Vancouver:20260513T100000
X-MICROSOFT-CDO-ALLDAYEVENT:FALSE
SUMMARY:FREE Member Morning Meet Up
DESCRIPTION:Coffee & Connections at the Douglas J. Husband Discovery Centre Presented by IGL\n\nJoin us for a morning of networking and conversation. This casual gathering is a great opportunity to connect with fellow Delta Chamber members and community professionals in a relaxed\, welcoming setting.We're thrilled to host this event in partnership with Douglas J. Husband Discovery Centre in their beautiful space. Enjoy complimentary coffee and pastries as you start your day with meaningful connections.Event Details:📅 Wednesday\, May 13\, 2026🕘 08:30 AM   10:00 AM📍 Douglas J. Husband Discovery Centre\, 4450 Clarence Taylor Crescent💲 Members: FREE | Future Members: $20\n\nRegister today as space is limited. We look forward to seeing you there!About Our Sponsor: IGL: Accountability\, commitment and advocacyOriginally a family-run business with over 50 years of combined experience in the insurance industry\, Adisa Benefits recently formed an alliance with IGL Financial. IGL has been serving the Fraser Valley for 24 years and has built a large team who services and specializes in employee benefits as well as investment and estate planning. \n\nThe combined resources of ADISA and IGL will allow us to offer the best advice and service\, and clients can continue to expect the same company values of honesty\, trust\, and respect. The entire team is committed to delivering on those values by being resourceful\, providing incredible service\, and proceeding with utmost integrity always doing what's right for you and your employees. \n\nAt IGL\, "where the benefits are clear" is more than a slogan it's a philosophy of how we provide advice\, make recommendations on plan design\, and manage the long-term cost of your plan.Questions? Please reach out to our Events & Marketing Manager\, Scarlett Huntington\, at scarlett.huntington@deltachamber.ca.Please note that tickets are non-refundable. If you're unable to attend\, you're welcome to transfer your ticket to another guest. Please email scarlett.huntington@deltachamber.ca with the updated details.
X-ALT-DESC;FMTTYPE=text/html:<!DOCTYPE html><html><head><title></title></head><body aria-disabled="false"><p style="box-sizing: border-box\; margin: 0px 0px 1rem\; color: rgb(34\, 31\, 31)\; font-family: Montserrat\, sans-serif\; font-size: 16px\; font-style: normal\; font-variant-ligatures: normal\; font-variant-caps: normal\; font-weight: 400\; letter-spacing: normal\; orphans: 2\; text-align: start\; text-indent: 0px\; text-transform: none\; widows: 2\; word-spacing: 0px\; -webkit-text-stroke-width: 0px\; white-space: normal\; background-color: rgb(255\, 255\, 255)\; text-decoration-thickness: initial\; text-decoration-style: initial\; text-decoration-color: initial\;"><strong fr-original-style="box-sizing: border-box\; font-weight: 700\;" style="box-sizing: border-box\; font-weight: 700\;">Coffee &amp\; Connections at the Douglas J. Husband Discovery Centre Presented by IGL</strong><br><br style="box-sizing: border-box\;">Join us for a morning of networking and conversation. This casual gathering is a great opportunity to connect with fellow Delta Chamber members and community professionals in a relaxed\, welcoming setting.</p><p style="box-sizing: border-box\; margin: 0px 0px 1rem\; color: rgb(34\, 31\, 31)\; font-family: Montserrat\, sans-serif\; font-size: 16px\; font-style: normal\; font-variant-ligatures: normal\; font-variant-caps: normal\; font-weight: 400\; letter-spacing: normal\; orphans: 2\; text-align: start\; text-indent: 0px\; text-transform: none\; widows: 2\; word-spacing: 0px\; -webkit-text-stroke-width: 0px\; white-space: normal\; background-color: rgb(255\, 255\, 255)\; text-decoration-thickness: initial\; text-decoration-style: initial\; text-decoration-color: initial\;">We&rsquo\;re thrilled to host this event in partnership with Douglas J. Husband Discovery Centre<a fr-original-style="box-sizing: border-box\; background-color: transparent\; color: rgb(10\, 10\, 10)\; text-decoration: none\; user-select: auto\;" href="https://www.laromas.ca/" rel="noopener noreferrer" style="box-sizing: border-box\; background-color: transparent\; color: rgb(10\, 10\, 10)\; text-decoration: none\; user-select: auto\;" target="_blank">&nbsp\;</a>in their beautiful space. Enjoy complimentary coffee and pastries as you start your day with meaningful connections.</p><p style="box-sizing: border-box\; margin: 0px 0px 1rem\; color: rgb(34\, 31\, 31)\; font-family: Montserrat\, sans-serif\; font-size: 16px\; font-style: normal\; font-variant-ligatures: normal\; font-variant-caps: normal\; font-weight: 400\; letter-spacing: normal\; orphans: 2\; text-align: start\; text-indent: 0px\; text-transform: none\; widows: 2\; word-spacing: 0px\; -webkit-text-stroke-width: 0px\; white-space: normal\; text-decoration-thickness: initial\; text-decoration-style: initial\; text-decoration-color: initial\; background-color: rgb(255\, 255\, 255)\;"><strong fr-original-style="box-sizing: border-box\; font-weight: 700\;" style="box-sizing: border-box\; font-weight: 700\;">Event Details:</strong></p><p style="box-sizing: border-box\; margin: 0px 0px 1rem\; color: rgb(34\, 31\, 31)\; font-family: Montserrat\, sans-serif\; font-size: 16px\; font-style: normal\; font-variant-ligatures: normal\; font-variant-caps: normal\; font-weight: 400\; letter-spacing: normal\; orphans: 2\; text-align: start\; text-indent: 0px\; text-transform: none\; widows: 2\; word-spacing: 0px\; -webkit-text-stroke-width: 0px\; white-space: normal\; text-decoration-thickness: initial\; text-decoration-style: initial\; text-decoration-color: initial\; background-color: rgb(255\, 255\, 255)\;">📅 <strong fr-original-style="box-sizing: border-box\; font-weight: 700\;" style="box-sizing: border-box\; font-weight: 700\;">Wednes</strong><strong fr-original-style="box-sizing: border-box\; font-weight: 700\;" style="box-sizing: border-box\; font-weight: 700\;">day\, May 13\, 2026</strong></p><p style="box-sizing: border-box\; margin: 0px 0px 1rem\; color: rgb(34\, 31\, 31)\; font-family: Montserrat\, sans-serif\; font-size: 16px\; font-style: normal\; font-variant-ligatures: normal\; font-variant-caps: normal\; font-weight: 400\; letter-spacing: normal\; orphans: 2\; text-align: start\; text-indent: 0px\; text-transform: none\; widows: 2\; word-spacing: 0px\; -webkit-text-stroke-width: 0px\; white-space: normal\; text-decoration-thickness: initial\; text-decoration-style: initial\; text-decoration-color: initial\; background-color: rgb(255\, 255\, 255)\;">🕘 <strong fr-original-style="">08</strong><strong fr-original-style="box-sizing: border-box\; font-weight: 700\;" style="box-sizing: border-box\; font-weight: 700\;">:30 AM &ndash\; 10:00 AM</strong></p><p style="box-sizing: border-box\; margin: 0px 0px 1rem\; color: rgb(34\, 31\, 31)\; font-family: Montserrat\, sans-serif\; font-size: 16px\; font-style: normal\; font-variant-ligatures: normal\; font-variant-caps: normal\; font-weight: 400\; letter-spacing: normal\; orphans: 2\; text-align: start\; text-indent: 0px\; text-transform: none\; widows: 2\; word-spacing: 0px\; -webkit-text-stroke-width: 0px\; white-space: normal\; text-decoration-thickness: initial\; text-decoration-style: initial\; text-decoration-color: initial\; background-color: rgb(255\, 255\, 255)\;">📍 <strong fr-original-style="">Douglas J. Husband Discovery Centre</strong>\, 4450 Clarence Taylor Crescent</p><p style="box-sizing: border-box\; margin: 0px 0px 1rem\; color: rgb(34\, 31\, 31)\; font-family: Montserrat\, sans-serif\; font-size: 16px\; font-style: normal\; font-variant-ligatures: normal\; font-variant-caps: normal\; font-weight: 400\; letter-spacing: normal\; orphans: 2\; text-align: start\; text-indent: 0px\; text-transform: none\; widows: 2\; word-spacing: 0px\; -webkit-text-stroke-width: 0px\; white-space: normal\; text-decoration-thickness: initial\; text-decoration-style: initial\; text-decoration-color: initial\; background-color: rgb(255\, 255\, 255)\;">💲 <strong fr-original-style="box-sizing: border-box\; font-weight: 700\;" style="box-sizing: border-box\; font-weight: 700\;">Members:</strong> FREE | <strong fr-original-style="box-sizing: border-box\; font-weight: 700\;" style="box-sizing: border-box\; font-weight: 700\;">Future Members:</strong>&nbsp\;$20<br style="box-sizing: border-box\;"><br style="box-sizing: border-box\;">Register today as space is limited. We look forward to seeing you there!</p><p><strong fr-original-style="">About Our Sponsor: IGL: Accountability\, commitment and advocacy</strong></p><p>Originally a family-run business with over 50 years of combined experience in the insurance industry\, Adisa Benefits recently formed an alliance with <a fr-original-style="" href="https://www.iglfinancial.com/" style="user-select: auto\;" target="_blank"><strong fr-original-style="">IGL Financial</strong></a>. IGL has been serving the Fraser Valley for 24 years and has built a large team who services and specializes in employee benefits as well as investment and estate planning. <br><br>The combined resources of ADISA and IGL will allow us to offer the best advice and service\, and clients can continue to expect the same company values of honesty\, trust\, and respect. The entire team is committed to delivering on those values by being resourceful\, providing incredible service\, and proceeding with utmost integrity&mdash\;always doing what&rsquo\;s right for you and your employees. <br><br>At IGL\, <strong fr-original-style=""><em>&ldquo\;where the benefits are clear&rdquo\;</em>&nbsp\;</strong>is more than a slogan&mdash\;it&rsquo\;s a philosophy of how we provide advice\, make recommendations on plan design\, and manage the long-term cost of your plan.</p><p style="box-sizing: border-box\; margin: 0px 0px 1rem\; color: rgb(34\, 31\, 31)\; font-family: Montserrat\, sans-serif\; font-size: 16px\; font-style: normal\; font-variant-ligatures: normal\; font-variant-caps: normal\; font-weight: 400\; letter-spacing: normal\; orphans: 2\; text-align: start\; text-indent: 0px\; text-transform: none\; widows: 2\; word-spacing: 0px\; -webkit-text-stroke-width: 0px\; white-space: normal\; background-color: rgb(255\, 255\, 255)\; text-decoration-thickness: initial\; text-decoration-style: initial\; text-decoration-color: initial\;"><strong fr-original-style="box-sizing: border-box\; font-weight: 700\;" style="box-sizing: border-box\; font-weight: 700\;">Questions?&nbsp\;</strong>Please reach out to our Events &amp\; Marketing Manager\, Scarlett Huntington\, at scarlett.huntington@deltachamber.ca.</p><p style="box-sizing: border-box\; margin: 0px 0px 1rem\; color: rgb(34\, 31\, 31)\; font-family: Montserrat\, sans-serif\; font-size: 16px\; font-style: normal\; font-variant-ligatures: normal\; font-variant-caps: normal\; font-weight: 400\; letter-spacing: normal\; orphans: 2\; text-align: start\; text-indent: 0px\; text-transform: none\; widows: 2\; word-spacing: 0px\; -webkit-text-stroke-width: 0px\; white-space: normal\; background-color: rgb(255\, 255\, 255)\; text-decoration-thickness: initial\; text-decoration-style: initial\; text-decoration-color: initial\;"><em style="box-sizing: border-box\;">Please note that tickets are non-refundable. If you&rsquo\;re unable to attend\, you&rsquo\;re welcome to transfer your ticket to another guest. Please email scarlett.huntington@deltachamber.ca with the updated details.</em></p></body></html>
LOCATION:4450 Clarence Taylor Crescent Delta
UID:e.2111.1447579
SEQUENCE:3
DTSTAMP:20260424T081504Z
URL:https://business.deltachamber.ca/event/Details/free-member-morning-meet-up-1714520?sourceTypeId=Hub
END:VEVENT
END:VCALENDAR
