BEGIN:VCALENDAR
VERSION:2.0
PRODID:-//ChamberMaster//Event Calendar 2.0//EN
METHOD:PUBLISH
X-PUBLISHED-TTL:P1H
REFRESH-INTERVAL:P1H
CALSCALE:GREGORIAN
BEGIN:VTIMEZONE
TZID:America/Vancouver
BEGIN:DAYLIGHT
RRULE:FREQ=YEARLY;BYMONTH=3;BYDAY=2SU
DTSTART:20070101T000000
TZOFFSETFROM:-0800
TZOFFSETTO:-0700
TZNAME:Pacific Daylight Time
END:DAYLIGHT
BEGIN:STANDARD
RRULE:FREQ=YEARLY;BYMONTH=11;BYDAY=1SU
DTSTART:20070101T000000
TZOFFSETFROM:-0700
TZOFFSETTO:-0800
TZNAME:Pacific Standard Time
END:STANDARD
END:VTIMEZONE
BEGIN:VEVENT
DTSTART;TZID=America/Vancouver:20260530T080000
DTEND;TZID=America/Vancouver:20260530T173000
X-MICROSOFT-CDO-ALLDAYEVENT:FALSE
SUMMARY:40th Annual Kyokushin Karate Championship Delta
DESCRIPTION:a {    text-decoration: none\;    color: #464feb\; }\ntr th\, tr td {    border: 1px solid #e6e6e6\; }\ntr th {    background-color: #f5f5f5\; }\n\na {    text-decoration: none\;    color: #464feb\; }\ntr th\, tr td {    border: 1px solid #e6e6e6\; }\ntr th {    background-color: #f5f5f5\; }\n\na {    text-decoration: none\;    color: #464feb\; }\ntr th\, tr td {    border: 1px solid #e6e6e6\; }\ntr th {    background-color: #f5f5f5\; }\n🥋 40th Annual Canadian Kyokushin Karate ChampionshipsMay 30\, 2026 | Cascades Casino Delta | South Delta\, BCJoin us for a milestone celebration of strength\, discipline\, and community at the 40th Annual Canadian Kyokushin Karate Championships\, proudly hosted by IKOK‑C at Cascades Casino Delta.This nationally recognized championship will bring together athletes\, coaches\, families\, and supporters from across Canada to celebrate four decades of Kyokushin karate excellence. Expect a full day of high-energy competition\, sportsmanship\, and community connection as competitors of all ages showcase their dedication and skill.About the Event OrganizerIKOK‑C is a not‑for‑profit organization dedicated to delivering high‑quality martial arts training to families at an affordable cost. Our mission is rooted in accessibility\, personal development\, and building strong communities through martial arts.Get InvolvedWe invite local businesses and community partners to be part of this exciting event through:Event SponsorshipsRaffle Prize Donations (products\, services\, or gift certificates)Support from our partners helps enhance the event experience while keeping participation accessible for families and athletes. In recognition of your support\, contributing businesses will be proudly acknowledged as community champions during the championship.Learn More or ParticipateFor sponsorship opportunities\, raffle contributions\, or additional details\, please review the attached information or contact us directly. We would be happy to discuss how you can get involved.📞 Contact: Sensei Mike Sandford\nTournament Committee Member\n604‑314‑4703Thank you for supporting martial arts\, youth development\, and community spirit in Delta. We look forward to welcoming you to this landmark event.
X-ALT-DESC;FMTTYPE=text/html:<!DOCTYPE html><html><head><title></title></head><body aria-disabled="false"><p><meta content="text/html\; charset=us-ascii" http-equiv="Content-Type"></p><style>\na {    text-decoration: none\;    color: #464feb\; }\ntr th\, tr td {    border: 1px solid #e6e6e6\; }\ntr th {    background-color: #f5f5f5\; }\n</style><style>\na {    text-decoration: none\;    color: #464feb\; }\ntr th\, tr td {    border: 1px solid #e6e6e6\; }\ntr th {    background-color: #f5f5f5\; }\n</style><p><meta content="text/html\; charset=us-ascii" http-equiv="Content-Type"></p><style>\na {    text-decoration: none\;    color: #464feb\; }\ntr th\, tr td {    border: 1px solid #e6e6e6\; }\ntr th {    background-color: #f5f5f5\; }\n</style><div style="font-family:'Segoe UI'\;font-size:14px\;font-style:normal\;font-weight:400\;line-height:20px\;"><h2>🥋 40th Annual Canadian Kyokushin Karate Championships</h2><p><strong fr-original-style="" style="font-weight: 700\;">May 30\, 2026 | Cascades Casino Delta | South Delta\, BC</strong></p><p>Join us for a milestone celebration of strength\, discipline\, and community at the 40th Annual Canadian Kyokushin Karate Championships\, proudly hosted by IKOK‑C at Cascades Casino Delta.</p><p>This nationally recognized championship will bring together athletes\, coaches\, families\, and supporters from across Canada to celebrate four decades of Kyokushin karate excellence. Expect a full day of high-energy competition\, sportsmanship\, and community connection as competitors of all ages showcase their dedication and skill.</p><h3>About the Event Organizer</h3><p>IKOK‑C is a not‑for‑profit organization dedicated to delivering high‑quality martial arts training to families at an affordable cost. Our mission is rooted in accessibility\, personal development\, and building strong communities through martial arts.</p><h3>Get Involved</h3><p>We invite local businesses and community partners to be part of this exciting event through:</p><ul fr-original-style="" style="list-style-position: inside\;"><li><strong fr-original-style="" style="font-weight: 700\;">Event Sponsorships</strong></li><li><strong fr-original-style="" style="font-weight: 700\;">Raffle Prize Donations</strong> (products\, services\, or gift certificates)</li></ul><p>Support from our partners helps enhance the event experience while keeping participation accessible for families and athletes. In recognition of your support\, contributing businesses will be proudly acknowledged as community champions during the championship.</p><h3>Learn More or Participate</h3><p>For sponsorship opportunities\, raffle contributions\, or additional details\, please review the attached information or contact us directly. We would be happy to discuss how you can get involved.</p><p>📞 <strong fr-original-style="" style="font-weight: 700\;">Contact:</strong> Sensei Mike Sandford<br>Tournament Committee Member<br>604‑314‑4703</p><p>Thank you for supporting martial arts\, youth development\, and community spirit in Delta. We look forward to welcoming you to this landmark event.</p></div></body></html>
LOCATION:6005 BC-17A Delta BC V4K 0B2
UID:e.2111.1450419
SEQUENCE:3
DTSTAMP:20260424T221523Z
URL:https://business.deltachamber.ca/event/Details/40th-annual-kyokushin-karate-championship-delta-1718073?sourceTypeId=Hub
END:VEVENT
END:VCALENDAR
